BEGIN:VCALENDAR
VERSION:2.0
PRODID:-//Squarespace Inc/Squarespace 6//v6//EN
BEGIN:VEVENT
UID:58bf468c1b10e382363b51c5@squarespace.com
DTSTAMP:20170309T011016Z
DTSTART:20170308T000000Z
DTEND:20170308T010000Z
SUMMARY:Pilates workshop
GEO:-36.852858;174.783682
LOCATION:Be\, 79 Saint Georges Bay Road\, Auckland\, Auckland\, 1052\, New 
 Zealand
END:VEVENT
END:VCALENDAR
